BEGIN:VCALENDAR
VERSION:2.0
PRODID:icalendar-ruby
CALSCALE:GREGORIAN
METHOD:PUBLISH
BEGIN:VEVENT
DTSTAMP:20260422T012217Z
UID:4e2662aa-2123-4679-9807-74d7f3e51200
DTSTART:20221231T180000
DTEND:20230101T030000
DESCRIPTION:<p>Inspired by the iconic NYD party and the magic island of Ibi
 za\, we're excited to present Pacha on New Year's Eve on 31st Dec 2022. <
 /p><p><br></p><p>Date: 31 December 2022</p><p>Time: 18:00 - 03:00</p><p>Ve
 nue: Cabo Beach Club</p><p><br></p><p>SET TIMES</p><p>19:00 - 20:30 | Sona
  </p><p>20:30 - 22:00 | Bloem </p><p>22:00 - 23:30 | Desiree </p><p>23:
 30 - 01:30 | Patrice Bäumel </p><p>01:30 - 03:00 | Sonic Bloom </p><p><
 br></p><p>T & C's apply. No Under 21's. </p>
LOCATION:12 S Arm Rd\, Victoria & Alfred Waterfront\, Cape Town\, 8002
SUMMARY:Pacha NYE '22/'23
URL;VALUE=URI:https://xs.howler.co.za/pachanye2022
END:VEVENT
END:VCALENDAR
