BEGIN:VCALENDAR
VERSION:2.0
PRODID:icalendar-ruby
CALSCALE:GREGORIAN
METHOD:PUBLISH
BEGIN:VEVENT
DTSTAMP:20260421T232726Z
UID:81f61574-4abd-428d-a9cc-0e6a5e38fb31
DTSTART:20221231T180000
DTEND:20230101T020000
DESCRIPTION:<p>Expect an exquisite dinner\, a sensual and extravagant show\
 , and a fantastical dance experience. 🎭 Grand Africa Café & Beach pres
 ents SHOWTIME\, New Year’s Eve 2022 from 18:00 until the early hours of 
 2023. ✨ </p><p>Enjoy a curated set dinner menu while being dazzled by d
 ancers\, mesmerized by singers\, and enthralled by acrobats in our show of
  international performing talents. Close the year and start 2023 with the 
 sounds of global phenomena DJ Felix da Housecat from USA and DJ Andy Baxte
 r from Ibiza.</p><p>This is a uniquely immersive dinner show extravaganza 
 you won’t want to miss. </p><p><br></p><p>Experience Ticket: R4000 p/p 
 (6pm onwards)</p><p>Phase 1 - Party Ticket Only: R1000 p/p (9pm onwards)</
 p><p>Phase 2 - Party Ticket Only: R1500 p/p (9pm onwards)</p><p>Phase 3 - 
 Party Ticket Only: R2000 p/p (9pm onwards)</p><p><br></p><p>Set Times</p><
 p>Dinner (18:00-21:00)</p><p>18:00 - 21:00 | Dino Moran</p><p><br></p><p>P
 arty (21:00 - onwards)</p><p>21:00 -22:00 | Dino Moran</p><p>22:00 - 00:00
  | Andy Baxter (IBZ)</p><p>00:00 - 02:00 | Felix Da Housecat (USA)</p><p>0
 2:00 - onwards | Dino Moran</p><p><br></p><p>SET DINNER MENU</p><p>Amuse B
 ouche Loch duart salmon tataki with wasabi aioli & lemon pearls </p><p>1s
 t Course: Wagyu beef pot stickers & kimchi dipping sauce </p><p>2nd Cours
 e: Grand caesar salad with a twist </p><p>3rd Course: Asian seabass with 
 thai green curry\, pearl couscous </p><p>Palate Cleanser: buchu & mint so
 rbet </p><p>4th Course: Beef filet\, bearnaise sauce & choice of sides <
 /p><p>5th Course: valrhona chocolate cremeux\, lemon cured ice cream\, coc
 onut & walnut tuile.</p><p><br></p><p>Tickets on sale on at https://xs.how
 ler.co.za</p><p>#ShowtimeNYE2022 #XSSummer</p>
LOCATION: V&A Waterfront\, Grand Africa Café & Beach\, Granger Bay 1 Haul 
 Rd
SUMMARY: Showtime NYE '22/'23
URL;VALUE=URI:https://xs.howler.co.za/showtimenye
END:VEVENT
END:VCALENDAR
